BEGIN:VCALENDAR
VERSION:2.0
PRODID:-//Commune de Sailly-Flibeaucourt - ECPv6.15.20//NONSGML v1.0//EN
CALSCALE:GREGORIAN
METHOD:PUBLISH
X-ORIGINAL-URL:https://www.saillyflibeaucourt.fr
X-WR-CALDESC:Évènements pour Commune de Sailly-Flibeaucourt
REFRESH-INTERVAL;VALUE=DURATION:PT1H
X-Robots-Tag:noindex
X-PUBLISHED-TTL:PT1H
BEGIN:VTIMEZONE
TZID:Europe/Paris
BEGIN:DAYLIGHT
TZOFFSETFROM:+0100
TZOFFSETTO:+0200
TZNAME:CEST
DTSTART:20240331T010000
END:DAYLIGHT
BEGIN:STANDARD
TZOFFSETFROM:+0200
TZOFFSETTO:+0100
TZNAME:CET
DTSTART:20241027T010000
END:STANDARD
BEGIN:DAYLIGHT
TZOFFSETFROM:+0100
TZOFFSETTO:+0200
TZNAME:CEST
DTSTART:20250330T010000
END:DAYLIGHT
BEGIN:STANDARD
TZOFFSETFROM:+0200
TZOFFSETTO:+0100
TZNAME:CET
DTSTART:20251026T010000
END:STANDARD
BEGIN:DAYLIGHT
TZOFFSETFROM:+0100
TZOFFSETTO:+0200
TZNAME:CEST
DTSTART:20260329T010000
END:DAYLIGHT
BEGIN:STANDARD
TZOFFSETFROM:+0200
TZOFFSETTO:+0100
TZNAME:CET
DTSTART:20261025T010000
END:STANDARD
END:VTIMEZONE
BEGIN:VEVENT
DTSTART;TZID=Europe/Paris:20250825T090000
DTEND;TZID=Europe/Paris:20250903T173000
DTSTAMP:20260421T174956
CREATED:20250624T055807Z
LAST-MODIFIED:20250624T055807Z
UID:23105-1756112400-1756920600@www.saillyflibeaucourt.fr
SUMMARY:Inscriptions - Ecole de Musique
DESCRIPTION:20250616-CULTURE - École de musique - affiche inscriptions compressée
URL:https://www.saillyflibeaucourt.fr/event/inscriptions-ecole-de-musique/
END:VEVENT
BEGIN:VEVENT
DTSTART;TZID=Europe/Paris:20250901T080000
DTEND;TZID=Europe/Paris:20250904T170000
DTSTAMP:20260421T174956
CREATED:20250623T102941Z
LAST-MODIFIED:20250623T103043Z
UID:23089-1756713600-1757005200@www.saillyflibeaucourt.fr
SUMMARY:Relevé des compteurs d'eau
DESCRIPTION:0 Relevé de compteurs
URL:https://www.saillyflibeaucourt.fr/event/releve-des-compteurs-deau-2/
END:VEVENT
END:VCALENDAR