BEGIN:VCALENDAR
VERSION:2.0
PRODID:-//Commune de Sailly-Flibeaucourt - ECPv6.15.20//NONSGML v1.0//EN
CALSCALE:GREGORIAN
METHOD:PUBLISH
X-ORIGINAL-URL:https://www.saillyflibeaucourt.fr
X-WR-CALDESC:Évènements pour Commune de Sailly-Flibeaucourt
REFRESH-INTERVAL;VALUE=DURATION:PT1H
X-Robots-Tag:noindex
X-PUBLISHED-TTL:PT1H
BEGIN:VTIMEZONE
TZID:Europe/Paris
BEGIN:DAYLIGHT
TZOFFSETFROM:+0100
TZOFFSETTO:+0200
TZNAME:CEST
DTSTART:20250330T010000
END:DAYLIGHT
BEGIN:STANDARD
TZOFFSETFROM:+0200
TZOFFSETTO:+0100
TZNAME:CET
DTSTART:20251026T010000
END:STANDARD
BEGIN:DAYLIGHT
TZOFFSETFROM:+0100
TZOFFSETTO:+0200
TZNAME:CEST
DTSTART:20260329T010000
END:DAYLIGHT
BEGIN:STANDARD
TZOFFSETFROM:+0200
TZOFFSETTO:+0100
TZNAME:CET
DTSTART:20261025T010000
END:STANDARD
BEGIN:DAYLIGHT
TZOFFSETFROM:+0100
TZOFFSETTO:+0200
TZNAME:CEST
DTSTART:20270328T010000
END:DAYLIGHT
BEGIN:STANDARD
TZOFFSETFROM:+0200
TZOFFSETTO:+0100
TZNAME:CET
DTSTART:20271031T010000
END:STANDARD
END:VTIMEZONE
BEGIN:VEVENT
DTSTART;VALUE=DATE:20260107
DTEND;VALUE=DATE:20260108
DTSTAMP:20260421T034957
CREATED:20260106T172811Z
LAST-MODIFIED:20260106T173010Z
UID:37955-1767744000-1767830399@www.saillyflibeaucourt.fr
SUMMARY:SUSPENSION DES TRANSPORTS SCOLAIRES
DESCRIPTION:En raison des conditions météorologiques \n (vigilance neige verglas)\,  \nles transports scolaires et interurbains  \ndu réseau Hauts-de-France  \nsont à nouveau suspendus le mercredi 7 janvier 2026.
URL:https://www.saillyflibeaucourt.fr/event/suspension-des-transports-scolaires/
END:VEVENT
BEGIN:VEVENT
DTSTART;VALUE=DATE:20260107
DTEND;VALUE=DATE:20260108
DTSTAMP:20260421T034957
CREATED:20260106T172540Z
LAST-MODIFIED:20260106T172540Z
UID:37950-1767744000-1767830399@www.saillyflibeaucourt.fr
SUMMARY:FERMETURE DES DECHETERIES
DESCRIPTION:Fermeture à cause des intempéries
URL:https://www.saillyflibeaucourt.fr/event/fermeture-des-decheteries/
END:VEVENT
BEGIN:VEVENT
DTSTART;VALUE=DATE:20260107
DTEND;VALUE=DATE:20260108
DTSTAMP:20260421T034957
CREATED:20260106T173256Z
LAST-MODIFIED:20260106T173526Z
UID:37958-1767744000-1767830399@www.saillyflibeaucourt.fr
SUMMARY:VIGILANCE NEIGE VERGLAS
DESCRIPTION:Alerte du 06/01/2026 à 17:26 \nMétéo France place le département en  \nvigilance orange pour  \nun nouvel épisode de neige et verglas  \nle mercredi 7 janvier  \nà partir de 4 heures jusqu’à 14 heures.
URL:https://www.saillyflibeaucourt.fr/event/vigilance-neige-verglas/
END:VEVENT
END:VCALENDAR