BEGIN:VCALENDAR
VERSION:2.0
PRODID:-//wp-events-plugin.com//7.2.3.1//EN
TZID:Europe/Paris
X-WR-TIMEZONE:Europe/Paris
BEGIN:VEVENT
UID:1@saillyflibeaucourt.fr
DTSTART;TZID=Europe/Paris:20260403T000000
DTEND;TZID=Europe/Paris:20260407T000000
DTSTAMP:20260405T145335Z
URL:https://www.saillyflibeaucourt.fr/events/candidature-au-ccas/
SUMMARY:Candidature au CCAS
DESCRIPTION:Candidature au conseil d'administration du C.C.A.S.
CATEGORIES:Mairie
LOCATION:Mairie\, 17 rue de la mairie\, Sailly-Flibeaucourt\, Picardie\, 80
 970\, France
X-APPLE-STRUCTURED-LOCATION;VALUE=URI;X-ADDRESS=17 rue de la mairie\, Saill
 y-Flibeaucourt\, Picardie\, 80970\, France;X-APPLE-RADIUS=100;X-TITLE=Mair
 ie:geo:0,0
END:VEVENT
BEGIN:VEVENT
UID:2@saillyflibeaucourt.fr
DTSTART;TZID=Europe/Paris:20260406T000000
DTEND;TZID=Europe/Paris:20260406T000000
DTSTAMP:20260405T135519Z
URL:https://www.saillyflibeaucourt.fr/events/chasse-aux-oeufs/
SUMMARY:Chasse aux oeufs
DESCRIPTION:
LOCATION:City Stade\, Place du stade\, Sailly-Flibeaucourt\, Picardie\, 809
 70\, France
X-APPLE-STRUCTURED-LOCATION;VALUE=URI;X-ADDRESS=Place du stade\, Sailly-Fli
 beaucourt\, Picardie\, 80970\, France;X-APPLE-RADIUS=100;X-TITLE=City Stad
 e:geo:0,0
END:VEVENT
BEGIN:VEVENT
UID:3@saillyflibeaucourt.fr
DTSTART;TZID=Europe/Paris:20260409T100000
DTEND;TZID=Europe/Paris:20260409T113000
DTSTAMP:20260405T142740Z
URL:https://www.saillyflibeaucourt.fr/events/lecture-tapis-jeudi-9-avril-2
 026-a-10-h-00/
SUMMARY:Lecture Tapis Jeudi 9 avril 2026 à 10 h 00
DESCRIPTION:[pdf-embedder url="https://www.saillyflibeaucourt.fr/wp-content
 /uploads/2026/03/lecture-tapis-du-09.04.26.pdf" title="lecture tapis du 09
 .04.26"]
CATEGORIES:Bibliothèque
END:VEVENT
BEGIN:VEVENT
UID:4@saillyflibeaucourt.fr
DTSTART;TZID=Europe/Paris:20260411T173000
DTEND;TZID=Europe/Paris:20260411T234500
DTSTAMP:20260405T143456Z
URL:https://www.saillyflibeaucourt.fr/events/loto-chats-sans-toit/
SUMMARY:Loto « Chats Sans Toit »
DESCRIPTION:[pdf-embedder url="https://www.saillyflibeaucourt.fr/wp-content
 /uploads/2026/03/Loto-chats-sans-toit-11-04-2026.pdf" title="Loto chats sa
 ns toit 11-04-2026"]
CATEGORIES:Association
LOCATION:Salle FOURCY\, 1 rue de l'église\, Sailly-Flibeaucourt\, Picardie
 \, 80970\, France
X-APPLE-STRUCTURED-LOCATION;VALUE=URI;X-ADDRESS=1 rue de l'église\, Sailly
 -Flibeaucourt\, Picardie\, 80970\, France;X-APPLE-RADIUS=100;X-TITLE=Salle
  FOURCY:geo:0,0
END:VEVENT
BEGIN:VEVENT
UID:8@saillyflibeaucourt.fr
DTSTART;TZID=Europe/Paris:20260413T000000
DTEND;TZID=Europe/Paris:20260417T000000
DTSTAMP:20260410T081804Z
URL:https://www.saillyflibeaucourt.fr/events/stage-foot-estn/
SUMMARY:Stage FOOT ESTN
DESCRIPTION:
END:VEVENT
BEGIN:VEVENT
UID:5@saillyflibeaucourt.fr
DTSTART;TZID=Europe/Paris:20260416T093000
DTEND;TZID=Europe/Paris:20260416T113000
DTSTAMP:20260405T143806Z
URL:https://www.saillyflibeaucourt.fr/events/enedis-coupures-de-courant/
SUMMARY:Enedis – Coupures de courant
DESCRIPTION:[pdf-embedder url="https://www.saillyflibeaucourt.fr/wp-content
 /uploads/2026/04/Coupures-de-courant.pdf" title="Coupures de courant"]
CATEGORIES:Coupures de courant
END:VEVENT
BEGIN:VEVENT
UID:9@saillyflibeaucourt.fr
DTSTART;TZID=Europe/Paris:20260420T000000
DTEND;TZID=Europe/Paris:20260520T000000
DTSTAMP:20260420T131732Z
URL:https://www.saillyflibeaucourt.fr/events/offre-demploi/
SUMMARY:Offre d'emploi
DESCRIPTION:\n\n
END:VEVENT
BEGIN:VEVENT
UID:6@saillyflibeaucourt.fr
DTSTART;TZID=Europe/Paris:20260425T203000
DTEND;TZID=Europe/Paris:20260425T234500
DTSTAMP:20260405T145541Z
URL:https://www.saillyflibeaucourt.fr/events/concert-de-printemps/
SUMMARY:Concert de printemps
DESCRIPTION:
CATEGORIES:Concert
END:VEVENT
BEGIN:VEVENT
UID:7@saillyflibeaucourt.fr
DTSTART;TZID=Europe/Paris:20260501T000000
DTEND;TZID=Europe/Paris:20260501T000000
DTSTAMP:20260405T163219Z
URL:https://www.saillyflibeaucourt.fr/events/brocante-1er-mai/
SUMMARY:Brocante 1er mai
DESCRIPTION:
LOCATION:Place de la mairie\, Place de la mairie\, Sailly-Flibeaucourt\, Pi
 cardie\, 80970\, France
X-APPLE-STRUCTURED-LOCATION;VALUE=URI;X-ADDRESS=Place de la mairie\, Sailly
 -Flibeaucourt\, Picardie\, 80970\, France;X-APPLE-RADIUS=100;X-TITLE=Place
  de la mairie:geo:0,0
END:VEVENT
BEGIN:VTIMEZONE
TZID:Europe/Paris
X-LIC-LOCATION:Europe/Paris
BEGIN:DAYLIGHT
DTSTART:20260329T030000
TZOFFSETFROM:+0100
TZOFFSETTO:+0200
TZNAME:CEST
END:DAYLIGHT
END:VTIMEZONE
END:VCALENDAR