BEGIN:VCALENDAR
VERSION:2.0
PRODID:-//Commune de Sailly-Flibeaucourt - ECPv6.15.20//NONSGML v1.0//EN
CALSCALE:GREGORIAN
METHOD:PUBLISH
X-ORIGINAL-URL:https://www.saillyflibeaucourt.fr
X-WR-CALDESC:Évènements pour Commune de Sailly-Flibeaucourt
REFRESH-INTERVAL;VALUE=DURATION:PT1H
X-Robots-Tag:noindex
X-PUBLISHED-TTL:PT1H
BEGIN:VTIMEZONE
TZID:Europe/Paris
BEGIN:DAYLIGHT
TZOFFSETFROM:+0100
TZOFFSETTO:+0200
TZNAME:CEST
DTSTART:20240331T010000
END:DAYLIGHT
BEGIN:STANDARD
TZOFFSETFROM:+0200
TZOFFSETTO:+0100
TZNAME:CET
DTSTART:20241027T010000
END:STANDARD
BEGIN:DAYLIGHT
TZOFFSETFROM:+0100
TZOFFSETTO:+0200
TZNAME:CEST
DTSTART:20250330T010000
END:DAYLIGHT
BEGIN:STANDARD
TZOFFSETFROM:+0200
TZOFFSETTO:+0100
TZNAME:CET
DTSTART:20251026T010000
END:STANDARD
BEGIN:DAYLIGHT
TZOFFSETFROM:+0100
TZOFFSETTO:+0200
TZNAME:CEST
DTSTART:20260329T010000
END:DAYLIGHT
BEGIN:STANDARD
TZOFFSETFROM:+0200
TZOFFSETTO:+0100
TZNAME:CET
DTSTART:20261025T010000
END:STANDARD
BEGIN:DAYLIGHT
TZOFFSETFROM:+0100
TZOFFSETTO:+0200
TZNAME:CEST
DTSTART:20270328T010000
END:DAYLIGHT
BEGIN:STANDARD
TZOFFSETFROM:+0200
TZOFFSETTO:+0100
TZNAME:CET
DTSTART:20271031T010000
END:STANDARD
END:VTIMEZONE
BEGIN:VEVENT
DTSTART;TZID=Europe/Paris:20251224T020000
DTEND;TZID=Europe/Paris:20260103T233000
DTSTAMP:20260420T234124
CREATED:20251216T064347Z
LAST-MODIFIED:20251216T064347Z
UID:33864-1766541600-1767483000@www.saillyflibeaucourt.fr
SUMMARY:Collecte Ordures Ménagères et Collecte Sélective : Noël et jour de l'An
DESCRIPTION:
URL:https://www.saillyflibeaucourt.fr/event/collecte-ordures-menageres-et-collecte-selective-noel-et-jour-de-lan/
END:VEVENT
BEGIN:VEVENT
DTSTART;VALUE=DATE:20260107
DTEND;VALUE=DATE:20260108
DTSTAMP:20260420T234124
CREATED:20260106T172811Z
LAST-MODIFIED:20260106T173010Z
UID:37955-1767744000-1767830399@www.saillyflibeaucourt.fr
SUMMARY:SUSPENSION DES TRANSPORTS SCOLAIRES
DESCRIPTION:En raison des conditions météorologiques \n (vigilance neige verglas)\,  \nles transports scolaires et interurbains  \ndu réseau Hauts-de-France  \nsont à nouveau suspendus le mercredi 7 janvier 2026.
URL:https://www.saillyflibeaucourt.fr/event/suspension-des-transports-scolaires/
END:VEVENT
BEGIN:VEVENT
DTSTART;VALUE=DATE:20260107
DTEND;VALUE=DATE:20260108
DTSTAMP:20260420T234124
CREATED:20260106T172540Z
LAST-MODIFIED:20260106T172540Z
UID:37950-1767744000-1767830399@www.saillyflibeaucourt.fr
SUMMARY:FERMETURE DES DECHETERIES
DESCRIPTION:Fermeture à cause des intempéries
URL:https://www.saillyflibeaucourt.fr/event/fermeture-des-decheteries/
END:VEVENT
BEGIN:VEVENT
DTSTART;VALUE=DATE:20260107
DTEND;VALUE=DATE:20260108
DTSTAMP:20260420T234124
CREATED:20260106T173256Z
LAST-MODIFIED:20260106T173526Z
UID:37958-1767744000-1767830399@www.saillyflibeaucourt.fr
SUMMARY:VIGILANCE NEIGE VERGLAS
DESCRIPTION:Alerte du 06/01/2026 à 17:26 \nMétéo France place le département en  \nvigilance orange pour  \nun nouvel épisode de neige et verglas  \nle mercredi 7 janvier  \nà partir de 4 heures jusqu’à 14 heures.
URL:https://www.saillyflibeaucourt.fr/event/vigilance-neige-verglas/
END:VEVENT
BEGIN:VEVENT
DTSTART;VALUE=DATE:20260108
DTEND;VALUE=DATE:20260109
DTSTAMP:20260420T234124
CREATED:20260108T074604Z
LAST-MODIFIED:20260108T075740Z
UID:38259-1767830400-1767916799@www.saillyflibeaucourt.fr
SUMMARY:PERMANENCES DU CIAS ANNULÉES
DESCRIPTION:PERMANENCES DU C.I.A.S. ANNULÉES\n\nMercredi 7 et jeudi 8 janvier 2026\, en raison des conditions météorologiques\, les permanences du CIAS (Centre Intercommunal d’Action Sociale)\nà Nouvion et Rue sont annulées. \n\nNe prenez pas de risques inutiles : limitez vos déplacements. \nL’équipe reste joignable par téléphone et à\nAilly-le-Haut-Clocher de 8 h 30 à 12 h et de 14 h à 17 h 30. \nCentre Intercommunal d’Action Sociale : \n09 70 20 00 61 | cias@ponthieu-marquenterre.fr \nPlus d’informations sur le CIAS sur notre site : \n– au sujet de l’aide à domicile > \n\nhttps://www.ponthieu-marquenterre.fr/aide-a-la-personne/aide-a-domicile/ \n– au sujet du portage de repas :>\nhttps://www.ponthieu-marquenterre.fr/aide-a-la-personne/portage-de-repas-cias/ \n \n\n  \n– au sujet du portage de repas :>\nhttps://www.ponthieu-marquenterre.fr/aide-a-la-personne/portage-de-repas-cias/
URL:https://www.saillyflibeaucourt.fr/event/permanences-du-cias-annulees/
END:VEVENT
BEGIN:VEVENT
DTSTART;VALUE=DATE:20260108
DTEND;VALUE=DATE:20260109
DTSTAMP:20260420T234124
CREATED:20260108T074823Z
LAST-MODIFIED:20260108T074823Z
UID:38257-1767830400-1767916799@www.saillyflibeaucourt.fr
SUMMARY:REPRISE DES TRANSPORTS SCOLAIRES
DESCRIPTION:REPRISE DES TRANSPORTS SCOLAIRES
URL:https://www.saillyflibeaucourt.fr/event/reprise-des-transports-scolaires/
END:VEVENT
BEGIN:VEVENT
DTSTART;VALUE=DATE:20260109
DTEND;VALUE=DATE:20260110
DTSTAMP:20260420T234124
CREATED:20260108T161522Z
LAST-MODIFIED:20260108T161522Z
UID:38415-1767916800-1768003199@www.saillyflibeaucourt.fr
SUMMARY:FERMETURE DES DECHETERIES LE 9 JANVIER
DESCRIPTION:FERMETURE DES DECHETERIES LE 9 JANVIER\n– – – – – – – \n\nEn raison des conditions météorologiques annoncées et par mesure de précaution\, il a été décidé de fermer l’ensemble des déchèteries du territoire demain vendredi 9 janvier matin. \nBien que la vigilance météorologique soit prévue jusqu’à 8h\, des rafales de vent pouvant dépasser les 100 km/h sont attendues\, susceptibles de générer des risques pour la sécurité des usagers et des agents. \nUne évaluation de la situation sera réalisée demain dans la matinée afin de statuer sur une éventuelle ouverture l’après-midi\, en fonction de l’évolution des conditions météorologiques. \n\n\n\n\nPartage
URL:https://www.saillyflibeaucourt.fr/event/fermeture-des-decheteries-le-9-janvier/
END:VEVENT
BEGIN:VEVENT
DTSTART;TZID=Europe/Paris:20260122T090000
DTEND;TZID=Europe/Paris:20260122T120000
DTSTAMP:20260420T234124
CREATED:20260120T112120Z
LAST-MODIFIED:20260120T112120Z
UID:40309-1769072400-1769083200@www.saillyflibeaucourt.fr
SUMMARY:Fermeture du secrétariat
DESCRIPTION:FERMETURE DU SECRETARIAT DE LA MAIRIE\n– – – – – – – \n\nEn raison d’une réunion\, \nle secrétariat de la mairie sera exceptionnellement fermé le \njeudi 22 janvier\, de 9 à 12 heures.
URL:https://www.saillyflibeaucourt.fr/event/fermeture-du-secretariat-6/
END:VEVENT
BEGIN:VEVENT
DTSTART;VALUE=DATE:20260123
DTEND;VALUE=DATE:20260124
DTSTAMP:20260420T234124
CREATED:20260120T113317Z
LAST-MODIFIED:20260120T113317Z
UID:40320-1769126400-1769212799@www.saillyflibeaucourt.fr
SUMMARY:La CCPM recrute des animateurs
DESCRIPTION:
URL:https://www.saillyflibeaucourt.fr/event/la-ccpm-recrute-des-animateurs/
END:VEVENT
BEGIN:VEVENT
DTSTART;TZID=Europe/Paris:20260130T190000
DTEND;TZID=Europe/Paris:20260130T203000
DTSTAMP:20260420T234124
CREATED:20260114T190426Z
LAST-MODIFIED:20260114T190426Z
UID:39456-1769799600-1769805000@www.saillyflibeaucourt.fr
SUMMARY:Cérémonie des Vœux 2026
DESCRIPTION:
URL:https://www.saillyflibeaucourt.fr/event/ceremonie-des-voeux-2026/
END:VEVENT
END:VCALENDAR